BEGIN:VCALENDAR
VERSION:2.0
PRODID:-//ara:zw - ECPv6.15.16.1//NONSGML v1.0//EN
CALSCALE:GREGORIAN
METHOD:PUBLISH
X-ORIGINAL-URL:https://ara-zo.gr
X-WR-CALDESC:Events for ara:zw
REFRESH-INTERVAL;VALUE=DURATION:PT1H
X-Robots-Tag:noindex
X-PUBLISHED-TTL:PT1H
BEGIN:VTIMEZONE
TZID:Europe/Athens
BEGIN:DAYLIGHT
TZOFFSETFROM:+0200
TZOFFSETTO:+0300
TZNAME:EEST
DTSTART:20250330T010000
END:DAYLIGHT
BEGIN:STANDARD
TZOFFSETFROM:+0300
TZOFFSETTO:+0200
TZNAME:EET
DTSTART:20251026T010000
END:STANDARD
BEGIN:DAYLIGHT
TZOFFSETFROM:+0200
TZOFFSETTO:+0300
TZNAME:EEST
DTSTART:20260329T010000
END:DAYLIGHT
BEGIN:STANDARD
TZOFFSETFROM:+0300
TZOFFSETTO:+0200
TZNAME:EET
DTSTART:20261025T010000
END:STANDARD
BEGIN:DAYLIGHT
TZOFFSETFROM:+0200
TZOFFSETTO:+0300
TZNAME:EEST
DTSTART:20270328T010000
END:DAYLIGHT
BEGIN:STANDARD
TZOFFSETFROM:+0300
TZOFFSETTO:+0200
TZNAME:EET
DTSTART:20271031T010000
END:STANDARD
END:VTIMEZONE
BEGIN:VEVENT
DTSTART;TZID=Europe/Athens:20260311T203000
DTEND;TZID=Europe/Athens:20260311T233000
DTSTAMP:20260419T194706
CREATED:20260311T150131Z
LAST-MODIFIED:20260311T150131Z
UID:90-1773261000-1773271800@ara-zo.gr
SUMMARY:Η Άννα Νικιτιάδη στο ara:zώ
DESCRIPTION:Μια ιδιαίτερη μουσική βραδιά στον χώρο του ara:zώ\, με αγαπημένα τραγούδια\, ζεστή ατμόσφαιρα και όμορφες μελωδίες που υπόσχονται μια ξεχωριστή εμπειρία. \nΜε χαρά σας παρουσιάζουμε τους: \nΜαρία Καζούλη – τραγούδιΆννα Νικητιάδη – κρουστά\, νέυΧρήστος Κουτσιάς – λαούτο\, τραγούδι \nΚρατήσεις: 2241026501
URL:https://ara-zo.gr/event/%ce%b7-%ce%ac%ce%bd%ce%bd%ce%b1-%ce%bd%ce%b9%ce%ba%ce%b9%cf%84%ce%b9%ce%ac%ce%b4%ce%b7-%cf%83%cf%84%ce%bf-araz%cf%8e/
LOCATION:ara:zώ\, Αγίου Ιωάννη 156\, Ρόδος\, 85100\, Greece
CATEGORIES:live
ATTACH;FMTTYPE=image/png:https://ara-zo.gr/wp-content/uploads/2026/02/Ανώνυμο-σχέδιο-2.png
END:VEVENT
END:VCALENDAR